BEGIN:VCALENDAR
VERSION:2.0
PRODID:-//Big I New York - ECPv6.15.17.1//NONSGML v1.0//EN
CALSCALE:GREGORIAN
METHOD:PUBLISH
X-WR-CALNAME:Big I New York
X-ORIGINAL-URL:https://www.biginy.org
X-WR-CALDESC:Events for Big I New York
REFRESH-INTERVAL;VALUE=DURATION:PT1H
X-Robots-Tag:noindex
X-PUBLISHED-TTL:PT1H
BEGIN:VTIMEZONE
TZID:UTC
BEGIN:STANDARD
TZOFFSETFROM:+0000
TZOFFSETTO:+0000
TZNAME:UTC
DTSTART:20250101T000000
END:STANDARD
END:VTIMEZONE
BEGIN:VEVENT
DTSTART;TZID=UTC:20260304T100000
DTEND;TZID=UTC:20260304T110000
DTSTAMP:20260423T221618
CREATED:20260219T222913Z
LAST-MODIFIED:20260219T222913Z
UID:10000031-1772618400-1772622000@www.biginy.org
SUMMARY:NextGen NY Coffee & Connect
DESCRIPTION:If you’re 40 & under\, or new to the industry\, this one’s for you!\nNextGen NY is bringing together up-and-coming insurance professionals for a casual Coffee & Connect virtual chat designed to help you plug into a powerful network of peers from across the state. \nJoin our NextGen Committee Chair\, Ashley Engl\, and committee members\, Ashley Rogan\, Jacquie Kelly Kaden\, and Tawnia Vermette\, to learn: \n\nWhat NextGen NY is all about\nHow to get involved\nThe real benefits members are seeing\nHow this group can support your growth in the industry\n\nThink of this as your chance to meet your people–other emerging leaders who understand the challenges and opportunities of building a career in insurance today. Whether you’ve been in the industry five months or five years\, this group is for you. If you’ve been on the fence about whether you should get involved\, this call is the perfect opportunity to see if it’s the right fit for you. You have nothing to lose\, and so much to gain! \nAgency leaders:\nWhen you encourage participation\, you’re not just supporting an employee; you’re strengthening your succession pipeline. Team members who engage with industry peers grow their confidence\, expand their perspective\, and return with ideas that benefit your agency’s long-term success. It’s a win-win for your agency. \nWe’d love to meet you\, so grab your coffee\, click join\, and start building connections that can last your entire career. \n  \nRegister Now! >
URL:https://www.biginy.org/event/nextgen-ny-coffee-connect/
LOCATION:https://us02web.zoom.us/meeting/register/8Elcj1f-TKKORUH1tx86Lg#/registration
CATEGORIES:NextGen
ATTACH;FMTTYPE=image/jpeg:https://www.biginy.org/wp-content/uploads/sites/27/2026/02/NextGen_Coffee_Connect.jpg
END:VEVENT
BEGIN:VEVENT
DTSTART;TZID=UTC:20260311T173000
DTEND;TZID=UTC:20260311T193000
DTSTAMP:20260423T221618
CREATED:20260206T191208Z
LAST-MODIFIED:20260206T191332Z
UID:10000026-1773250200-1773257400@www.biginy.org
SUMMARY:NextGen NYC Shamrock Social
DESCRIPTION:You’re invited to kick off St. Patrick’s Day season the right way.\nJoin fellow independent insurance agents for our Shamrock Social on March 11 at Connolly’s\, NYC for an evening built for connections\, conversations\, and a little Irish luck. \nWhat’s in store\n• Open bar\n• Appetizers flowing\n• Cash prize drawings every 30 minutes\n• A packed room of agents\, partners\, and new faces \nThis is your chance to expand your NYC network\, make new friends in the industry\, and grow real business connections– all while having fun! \nSpots are limited\, and this one will fill fast. Don’t miss your chance. \nGet lucky. Get connected. Get registered. \nPrice: $77 for members  |  $99 for non-members  |  $99 at the door \n  \nRegister Now! >
URL:https://www.biginy.org/event/nextgen-nyc-shamrock-social/
LOCATION:Connolly’s Pub & Restaurant\, 121 W 45th Street\, New York\, NY\, 10036\, United States
CATEGORIES:NextGen
ATTACH;FMTTYPE=image/jpeg:https://www.biginy.org/wp-content/uploads/sites/27/2026/02/NextGen_NYC_Shamrock_Social.jpg
END:VEVENT
BEGIN:VEVENT
DTSTART;TZID=UTC:20260312T170000
DTEND;TZID=UTC:20260312T190000
DTSTAMP:20260423T221618
CREATED:20260213T213005Z
LAST-MODIFIED:20260310T152724Z
UID:10000029-1773334800-1773342000@www.biginy.org
SUMMARY:NextGen Rochester Official Kickoff Event
DESCRIPTION:We’re thrilled to officially launch the NextGen ROC group with a fun and casual evening at the Fairport Pickleball Club!\nAttendees can choose to play pickleball or simply relax\, network\, and enjoy food and drinks in our private viewing area overlooking the courts. \nRegister Now! >
URL:https://www.biginy.org/event/nextgen-rochester-official-kickoff-event/
LOCATION:Fairport Pickleball Club\, 75 N Main St Suite 160\, Fairport\, NY\, 14450\, United States
CATEGORIES:NextGen
ATTACH;FMTTYPE=image/jpeg:https://www.biginy.org/wp-content/uploads/sites/27/2026/02/NextGen_ROC_Fairport_Pickleball.jpg
ORGANIZER;CN="Big I ROC":MAILTO:connect@bigiroc.com
END:VEVENT
BEGIN:VEVENT
DTSTART;TZID=UTC:20260319T173000
DTEND;TZID=UTC:20260319T193000
DTSTAMP:20260423T221618
CREATED:20260119T184633Z
LAST-MODIFIED:20260119T232214Z
UID:10000012-1773941400-1773948600@www.biginy.org
SUMMARY:NextGen Westchester St. Patrick's Networking Event
DESCRIPTION:Celebrate St. Patrick’s Day with NextGen Westchester at one of the Hudson Valley’s most iconic breweries! Join us for an evening of connection\, conversation\, and craft brews with your favorite local insurance pros. \nTickets are $50 per person and include: \n\nDelicious food\nBeverages (yes\, that includes beer!)\nUnmatched networking with other local agents and leaders\n\nWant to take your support further? Sponsorships are available for $500\, which include: \n\nAdmission for up to 4 guests\nRecognition at the event\nA great way to connect your brand with the next generation of industry leaders\n\nWhether you’re looking to grow your network or just enjoy some quality time with familiar faces\, you won’t want to miss this festive night of fun! \nRegister Now! >
URL:https://www.biginy.org/event/nextgen-westchester-st-patricks-networking-event/
LOCATION:Captain Lawrence Brewing Company\, 444 Saw Mill River Road\, Elmsford\, NY\, 10523\, United States
CATEGORIES:NextGen
ATTACH;FMTTYPE=image/jpeg:https://www.biginy.org/wp-content/uploads/sites/27/2026/01/NextGen_Westchester_StPatricksDay.jpg
END:VEVENT
BEGIN:VEVENT
DTSTART;TZID=UTC:20260325T160000
DTEND;TZID=UTC:20260325T190000
DTSTAMP:20260423T221618
CREATED:20260213T211138Z
LAST-MODIFIED:20260213T213633Z
UID:10000028-1774454400-1774465200@www.biginy.org
SUMMARY:NextGen Buffalo 2026 Kickoff Event
DESCRIPTION:NextGen BUF invites you to their 2026 kickoff event at LASERTRON in Amherst!\nTickets include: \n\nYour choice of two activities: Lasertron\, Axe throwing\, Krazy Darts\nTwo drink tickets (bottled beer\, well drinks)\nGourmet pizza & wins + unlimited soft drinks\nAND all players will receive 6 credits to use within the 20 days following the event\n\n  \nRegister Now! >
URL:https://www.biginy.org/event/nextgen-buffalo-2026-kickoff-event/
LOCATION:LASERTRON\, 5101 N Bailey Ave\, Buffalo\, NY\, 14226\, United States
CATEGORIES:NextGen
ATTACH;FMTTYPE=image/jpeg:https://www.biginy.org/wp-content/uploads/sites/27/2026/02/NextGen_BUFF_Lasertron.jpg
ORGANIZER;CN="Big I WNY":MAILTO:IIAAWNY@gmail.com
END:VEVENT
END:VCALENDAR